BEGIN:VCALENDAR
VERSION:2.0
PRODID:SchoolNow
CALSCALE:GREGORIAN
BEGIN:VEVENT
UID:dee878a8-80af-11ea-8959-1252f6b3dc8b
DTSTAMP:20200417T133223Z
SUMMARY:School Committee Budget Sub Committee Meeting - REMOTE MEETING ONLI
 NE
URL;VALUE=URI:https://www.norwood.k12.ma.us/sc/calendar/2238318/school-comm
 ittee-budget-sub-committee-meeting-remote-meeting-online
DTSTART:20200421T160000Z
DTEND:20200421T170000Z
END:VEVENT
END:VCALENDAR
