BEGIN:VCALENDAR
VERSION:2.0
PRODID:SchoolNow
CALSCALE:GREGORIAN
BEGIN:VEVENT
UID:275e84ce-8628-11ea-a50d-12d39e1f83bf
DTSTAMP:20200424T123600Z
SUMMARY:School Committee Budget Sub Committee Meeting - REMOTE MEETING ONLI
 NE
URL;VALUE=URI:https://www.norwood.k12.ma.us/sc/calendar/2241628/school-comm
 ittee-budget-sub-committee-meeting-remote-meeting-online
DTSTART:20200428T160000Z
DTEND:20200428T170000Z
END:VEVENT
END:VCALENDAR
