BEGIN:VCALENDAR
VERSION:2.0
PRODID:SchoolNow
CALSCALE:GREGORIAN
BEGIN:VEVENT
UID:dd265afc-8bc8-11ea-a23d-121bcedc02cb
DTSTAMP:20200501T162900Z
SUMMARY:School Committee Budget Sub Committee Meeting - REMOTE MEETING ONLI
 NE
URL;VALUE=URI:https://www.norwood.k12.ma.us/sc/calendar/2243693/school-comm
 ittee-budget-sub-committee-meeting-remote-meeting-online
DTSTART:20200505T150000Z
DTEND:20200505T160000Z
END:VEVENT
END:VCALENDAR
