BEGIN:VCALENDAR
VERSION:2.0
PRODID:SchoolNow
CALSCALE:GREGORIAN
BEGIN:VEVENT
UID:f5d9bb52-8bc8-11ea-bb5e-121bcedc02cb
DTSTAMP:20200501T162942Z
SUMMARY:School Committee Meeting - Executive Session - REMOTE MEETING ONLIN
 E
URL;VALUE=URI:https://www.norwood.k12.ma.us/sc/calendar/2243695/school-comm
 ittee-meeting-executive-session-remote-meeting-online
DTSTART:20200511T190000Z
DTEND:20200511T200000Z
END:VEVENT
END:VCALENDAR
