BEGIN:VCALENDAR
VERSION:2.0
PRODID:SchoolNow
CALSCALE:GREGORIAN
BEGIN:VEVENT
UID:70ef6158-93a2-11ea-9639-125fccb6668d
DTSTAMP:20200514T154301Z
SUMMARY:School Committee Budget Sub Committee Meeting - REMOTE MEETING ONLI
 NE
URL;VALUE=URI:https://www.norwood.k12.ma.us/sc/calendar/2246154/school-comm
 ittee-budget-sub-committee-meeting-remote-meeting-online
DTSTART:20200520T163000Z
DTEND:20200520T173000Z
END:VEVENT
END:VCALENDAR
