BEGIN:VCALENDAR
VERSION:2.0
PRODID:SchoolNow
CALSCALE:GREGORIAN
BEGIN:VEVENT
UID:58ce8c5e-944f-11ea-a8ac-12d8f20b2575
DTSTAMP:20200512T125150Z
SUMMARY:School Committee Meeting - Executive Session - REMOTE MEETING ONLIN
 E
URL;VALUE=URI:https://www.norwood.k12.ma.us/sc/calendar/2246976/school-comm
 ittee-meeting-executive-session-remote-meeting-online
DTSTART:20200513T223000Z
DTEND:20200513T230000Z
END:VEVENT
END:VCALENDAR
