BEGIN:VCALENDAR
VERSION:2.0
PRODID:SchoolNow
CALSCALE:GREGORIAN
BEGIN:VEVENT
UID:70824d24-9b64-11ea-a872-0aff4d96c26d
DTSTAMP:20200521T131027Z
SUMMARY:School Committee Policy Sub Committee Meeting - REMOTE MEETING ONLI
 NE
URL;VALUE=URI:https://www.norwood.k12.ma.us/sc/calendar/2250997/school-comm
 ittee-policy-sub-committee-meeting-remote-meeting-online
DTSTART:20200529T150000Z
DTEND:20200529T160000Z
END:VEVENT
END:VCALENDAR
