BEGIN:VCALENDAR
VERSION:2.0
PRODID:SchoolNow
CALSCALE:GREGORIAN
BEGIN:VEVENT
UID:3dcf2f8a-9edb-11ea-83ec-1266c4d19fb5
DTSTAMP:20200525T225826Z
SUMMARY:School Committee - Executive Session (Remote)
LOCATION:Remote
URL;VALUE=URI:https://www.norwood.k12.ma.us/sc/calendar/2253238/school-comm
 ittee-executive-session-remote
DTSTART:20200527T223000Z
DTEND:20200527T230000Z
END:VEVENT
END:VCALENDAR
