BEGIN:VCALENDAR
VERSION:2.0
PRODID:SchoolNow
CALSCALE:GREGORIAN
BEGIN:VEVENT
UID:c5c43ac4-a111-11ea-9dc6-1266c4d19fb5
DTSTAMP:20200528T183349Z
SUMMARY:School Committee Budget Sub Committee Meeting - REMOTE MEETING ONLI
 NE
URL;VALUE=URI:https://www.norwood.k12.ma.us/sc/calendar/2254149/school-comm
 ittee-budget-sub-committee-meeting-remote-meeting-online
DTSTART:20200604T151500Z
DTEND:20200604T161500Z
END:VEVENT
END:VCALENDAR
