BEGIN:VCALENDAR
VERSION:2.0
PRODID:SchoolNow
CALSCALE:GREGORIAN
BEGIN:VEVENT
UID:732a42b4-a99e-11ea-afff-12c2b34afd0b
DTSTAMP:20200608T154059Z
SUMMARY:School Committee Policy Sub Committee Meeting - REMOTE MEETING ONLI
 NE
URL;VALUE=URI:https://www.norwood.k12.ma.us/sc/calendar/2257526/school-comm
 ittee-policy-sub-committee-meeting-remote-meeting-online
DTSTART;VALUE=DATE:20200612
DTEND;VALUE=DATE:20200613
END:VEVENT
END:VCALENDAR
