BEGIN:VCALENDAR
VERSION:2.0
PRODID:SchoolNow
CALSCALE:GREGORIAN
BEGIN:VEVENT
UID:895815fc-a99e-11ea-9577-12c2b34afd0b
DTSTAMP:20200608T154136Z
SUMMARY:School Committee Meeting - REMOTE MEETING ONLINE
URL;VALUE=URI:https://www.norwood.k12.ma.us/sc/calendar/2257528/school-comm
 ittee-meeting-remote-meeting-online
DTSTART;VALUE=DATE:20200722
DTEND;VALUE=DATE:20200723
END:VEVENT
END:VCALENDAR
