BEGIN:VCALENDAR
VERSION:2.0
PRODID:SchoolNow
CALSCALE:GREGORIAN
BEGIN:VEVENT
UID:9abe451e-a99e-11ea-839b-12c2b34afd0b
DTSTAMP:20200608T154205Z
SUMMARY:School Committee Meeting - REMOTE MEETING ONLINE
URL;VALUE=URI:https://www.norwood.k12.ma.us/sc/calendar/2257530/school-comm
 ittee-meeting-remote-meeting-online
DTSTART;VALUE=DATE:20200805
DTEND;VALUE=DATE:20200806
END:VEVENT
END:VCALENDAR
