BEGIN:VCALENDAR
VERSION:2.0
PRODID:SchoolNow
CALSCALE:GREGORIAN
BEGIN:VEVENT
UID:4b4bfdfe-ac10-11ea-8477-0a51d7c2ee87
DTSTAMP:20200611T182057Z
SUMMARY:School Committee Executive Session (Extended Day Salaries) - REMOTE
  MEETING ONLINE
URL;VALUE=URI:https://www.norwood.k12.ma.us/sc/calendar/2260152/school-comm
 ittee-executive-session-extended-day-salaries-remote-meeting-online
DTSTART:20200617T221500Z
DTEND:20200617T230000Z
END:VEVENT
END:VCALENDAR
