BEGIN:VCALENDAR
VERSION:2.0
PRODID:SchoolNow
CALSCALE:GREGORIAN
BEGIN:VEVENT
UID:6a73b622-ac10-11ea-ae6c-0a51d7c2ee87
DTSTAMP:20200611T182149Z
SUMMARY:School Committee Meeting (Contract Negotiations) - REMOTE MEETING O
 NLINE Immediately following SC Meeting
URL;VALUE=URI:https://www.norwood.k12.ma.us/sc/calendar/2260154/school-comm
 ittee-meeting-contract-negotiations-remote-meeting-online-immediately-foll
 owing-sc-meeting
DTSTART:20200618T000000Z
DTEND:20200618T010000Z
END:VEVENT
END:VCALENDAR
