BEGIN:VCALENDAR
VERSION:2.0
PRODID:SchoolNow
CALSCALE:GREGORIAN
BEGIN:VEVENT
UID:5b2734a6-c5d2-11ea-8014-0a3dce09dc31
DTSTAMP:20200714T130305Z
SUMMARY:School Committee Executive Session Contract Negotiations - REMOTE M
 EETING ONLINE
URL;VALUE=URI:https://www.norwood.k12.ma.us/sc/calendar/2278139/school-comm
 ittee-executive-session-contract-negotiations-remote-meeting-online
DTSTART:20200716T140000Z
DTEND:20200716T150000Z
END:VEVENT
END:VCALENDAR
