BEGIN:VCALENDAR
VERSION:2.0
PRODID:SchoolNow
CALSCALE:GREGORIAN
BEGIN:VEVENT
UID:22e5eb40-cc7c-11ea-b279-0a9e69dcac07
DTSTAMP:20200723T003332Z
SUMMARY:School Committee Meeting - REMOTE MEETING ONLINE
URL;VALUE=URI:https://www.norwood.k12.ma.us/sc/calendar/2289121/school-comm
 ittee-meeting-remote-meeting-online-clone
DTSTART;VALUE=DATE:20200729
DTEND;VALUE=DATE:20200730
END:VEVENT
END:VCALENDAR
