BEGIN:VCALENDAR
VERSION:2.0
PRODID:SchoolNow
CALSCALE:GREGORIAN
BEGIN:VEVENT
UID:cf8b89e2-d030-11ea-ba07-0a7a481b7b25
DTSTAMP:20200727T174424Z
SUMMARY:School Committee Meeting - REMOTE MEETING ONLINE
URL;VALUE=URI:https://www.norwood.k12.ma.us/sc/calendar/2293958/school-comm
 ittee-meeting-remote-meeting-online
DTSTART:20200909T230000Z
DTEND:20200910T000000Z
END:VEVENT
END:VCALENDAR
