BEGIN:VCALENDAR
VERSION:2.0
PRODID:SchoolNow
CALSCALE:GREGORIAN
BEGIN:VEVENT
UID:ee8f8d16-d030-11ea-af59-126bc2ec9307
DTSTAMP:20200727T174516Z
SUMMARY:School Committee Meeting - REMOTE MEETING ONLINE
URL;VALUE=URI:https://www.norwood.k12.ma.us/sc/calendar/2293962/school-comm
 ittee-meeting-remote-meeting-online
DTSTART:20201007T230000Z
DTEND:20201008T000000Z
END:VEVENT
END:VCALENDAR
