BEGIN:VCALENDAR
VERSION:2.0
PRODID:SchoolNow
CALSCALE:GREGORIAN
BEGIN:VEVENT
UID:dacac7bc-d032-11ea-9b43-0a2eb1995257
DTSTAMP:20200727T175902Z
SUMMARY:School Committee Meeting - REMOTE MEETING ONLINE
URL;VALUE=URI:https://www.norwood.k12.ma.us/sc/calendar/2293964/school-comm
 ittee-meeting-remote-meeting-online
DTSTART:20201021T230000Z
DTEND:20201022T000000Z
END:VEVENT
END:VCALENDAR
