BEGIN:VCALENDAR
VERSION:2.0
PRODID:SchoolNow
CALSCALE:GREGORIAN
BEGIN:VEVENT
UID:eb207170-d032-11ea-a480-0a2eb1995257
DTSTAMP:20200727T175929Z
SUMMARY:School Committee Meeting - REMOTE MEETING ONLINE
URL;VALUE=URI:https://www.norwood.k12.ma.us/sc/calendar/2293966/school-comm
 ittee-meeting-remote-meeting-online
DTSTART:20201119T000000Z
DTEND:20201119T010000Z
END:VEVENT
END:VCALENDAR
