BEGIN:VCALENDAR
VERSION:2.0
PRODID:SchoolNow
CALSCALE:GREGORIAN
BEGIN:VEVENT
UID:fe6c2364-d032-11ea-bc63-0a2eb1995257
DTSTAMP:20201201T131304Z
SUMMARY:School Committee Meeting - REMOTE MEETING ONLINE
URL;VALUE=URI:https://www.norwood.k12.ma.us/sc/calendar/2293968/school-comm
 ittee-meeting-meeting-location-tbd
DTSTART:20201203T000000Z
DTEND:20201203T010000Z
END:VEVENT
END:VCALENDAR
