BEGIN:VCALENDAR
VERSION:2.0
PRODID:SchoolNow
CALSCALE:GREGORIAN
BEGIN:VEVENT
UID:0a57ff2c-d033-11ea-8cef-0a2eb1995257
DTSTAMP:20201201T131312Z
SUMMARY:School Committee Meeting - REMOTE MEETING ONLINE
URL;VALUE=URI:https://www.norwood.k12.ma.us/sc/calendar/2293970/school-comm
 ittee-meeting-meeting-location-tbd
DTSTART:20201217T000000Z
DTEND:20201217T010000Z
END:VEVENT
END:VCALENDAR
