BEGIN:VCALENDAR
VERSION:2.0
PRODID:SchoolNow
CALSCALE:GREGORIAN
BEGIN:VEVENT
UID:19e1c0fe-d033-11ea-877a-0a2eb1995257
DTSTAMP:20201201T131322Z
SUMMARY:School Committee Meeting - REMOTE MEETING ONLINE
URL;VALUE=URI:https://www.norwood.k12.ma.us/sc/calendar/2293972/school-comm
 ittee-meeting-meeting-location-tbd
DTSTART:20210114T000000Z
DTEND:20210114T010000Z
END:VEVENT
END:VCALENDAR
