BEGIN:VCALENDAR
VERSION:2.0
PRODID:SchoolNow
CALSCALE:GREGORIAN
BEGIN:VEVENT
UID:27bff93e-d033-11ea-98e7-0a2eb1995257
DTSTAMP:20201201T131331Z
SUMMARY:School Committee Meeting - REMOTE MEETING ONLINE
URL;VALUE=URI:https://www.norwood.k12.ma.us/sc/calendar/2293974/school-comm
 ittee-meeting-meeting-location-tbd
DTSTART:20210128T000000Z
DTEND:20210128T010000Z
END:VEVENT
END:VCALENDAR
