BEGIN:VCALENDAR
VERSION:2.0
PRODID:SchoolNow
CALSCALE:GREGORIAN
BEGIN:VEVENT
UID:34e53e3a-d033-11ea-a1cb-0a2eb1995257
DTSTAMP:20201215T141254Z
SUMMARY:School Committee Meeting - REMOTE MEETING ONLINE
URL;VALUE=URI:https://www.norwood.k12.ma.us/sc/calendar/2293976/school-comm
 ittee-meeting-meeting-location-tbd
DTSTART:20210211T000000Z
DTEND:20210211T010000Z
END:VEVENT
END:VCALENDAR
