BEGIN:VCALENDAR
VERSION:2.0
PRODID:SchoolNow
CALSCALE:GREGORIAN
BEGIN:VEVENT
UID:5324ea26-d033-11ea-ba12-0a2eb1995257
DTSTAMP:20201215T141317Z
SUMMARY:School Committee Meeting - REMOTE MEETING ONLINE
URL;VALUE=URI:https://www.norwood.k12.ma.us/sc/calendar/2293980/school-comm
 ittee-meeting-meeting-location-tbd
DTSTART:20210311T000000Z
DTEND:20210311T010000Z
END:VEVENT
END:VCALENDAR
