BEGIN:VCALENDAR
VERSION:2.0
PRODID:SchoolNow
CALSCALE:GREGORIAN
BEGIN:VEVENT
UID:61a7d07c-d033-11ea-b8d9-0a2eb1995257
DTSTAMP:20201215T141325Z
SUMMARY:School Committee Meeting - REMOTE MEETING ONLINE
URL;VALUE=URI:https://www.norwood.k12.ma.us/sc/calendar/2293982/school-comm
 ittee-meeting-meeting-location-tbd
DTSTART:20210324T230000Z
DTEND:20210325T000000Z
END:VEVENT
END:VCALENDAR
