BEGIN:VCALENDAR
VERSION:2.0
PRODID:SchoolNow
CALSCALE:GREGORIAN
BEGIN:VEVENT
UID:8bedcf76-d033-11ea-a7e5-0a2eb1995257
DTSTAMP:20210405T122024Z
SUMMARY:School Committee Meeting - REMOTE MEETING ONLINE
URL;VALUE=URI:https://www.norwood.k12.ma.us/sc/calendar/2293991/school-comm
 ittee-meeting-meeting-location-tbd
DTSTART:20210512T230000Z
DTEND:20210513T000000Z
END:VEVENT
END:VCALENDAR
