BEGIN:VCALENDAR
VERSION:2.0
PRODID:SchoolNow
CALSCALE:GREGORIAN
BEGIN:VEVENT
UID:9acbb472-d033-11ea-9200-0a2eb1995257
DTSTAMP:20210405T122030Z
SUMMARY:School Committee Meeting - REMOTE MEETING ONLINE
URL;VALUE=URI:https://www.norwood.k12.ma.us/sc/calendar/2293993/school-comm
 ittee-meeting-meeting-location-tbd
DTSTART:20210526T230000Z
DTEND:20210527T000000Z
END:VEVENT
END:VCALENDAR
