BEGIN:VCALENDAR
VERSION:2.0
PRODID:SchoolNow
CALSCALE:GREGORIAN
BEGIN:VEVENT
UID:b557259c-d033-11ea-a7e0-0a2eb1995257
DTSTAMP:20210527T140622Z
SUMMARY:School Committee Meeting - REMOTE MEETING ONLINE
URL;VALUE=URI:https://www.norwood.k12.ma.us/sc/calendar/2293997/school-comm
 ittee-meeting-meeting-location-tbd
DTSTART:20210623T230000Z
DTEND:20210624T000000Z
END:VEVENT
END:VCALENDAR
