BEGIN:VCALENDAR
VERSION:2.0
PRODID:SchoolNow
CALSCALE:GREGORIAN
BEGIN:VEVENT
UID:0cc0a0ca-d58d-11ea-a8da-12398535910f
DTSTAMP:20200803T132716Z
SUMMARY:School Committee - Executive Session - REMOTE MEETING ONLINE
URL;VALUE=URI:https://www.norwood.k12.ma.us/sc/calendar/2298153/school-comm
 ittee-executive-session-remote-meeting-online
DTSTART:20200803T220000Z
DTEND:20200803T230000Z
END:VEVENT
END:VCALENDAR
