BEGIN:VCALENDAR
VERSION:2.0
PRODID:SchoolNow
CALSCALE:GREGORIAN
BEGIN:VEVENT
UID:7532ed62-d654-11ea-98fa-122714099e3b
DTSTAMP:20200806T200116Z
SUMMARY:School Committee Meeting - REMOTE MEETING ONLINE
URL;VALUE=URI:https://www.norwood.k12.ma.us/sc/calendar/2298894/school-comm
 ittee-meeting-remote-meeting-online
DTSTART:20200810T211500Z
DTEND:20200810T231500Z
END:VEVENT
END:VCALENDAR
