BEGIN:VCALENDAR
VERSION:2.0
PRODID:SchoolNow
CALSCALE:GREGORIAN
BEGIN:VEVENT
UID:aca02338-d81f-11ea-8d63-0a3d8c420f29
DTSTAMP:20200806T204123Z
SUMMARY:School Committee Meeting - Executive Session - REMOTE MEETING ONLIN
 E
URL;VALUE=URI:https://www.norwood.k12.ma.us/sc/calendar/2301629/school-comm
 ittee-meeting-remote-meeting-online-clone
DTSTART:20200810T210000Z
DTEND:20200810T211500Z
END:VEVENT
END:VCALENDAR
