BEGIN:VCALENDAR
VERSION:2.0
PRODID:SchoolNow
CALSCALE:GREGORIAN
BEGIN:VEVENT
UID:42274d1c-dbe7-11ea-91a8-1216c58173df
DTSTAMP:20200811T152808Z
SUMMARY:School Committee Meeting - REMOTE MEETING ONLINE
URL;VALUE=URI:https://www.norwood.k12.ma.us/sc/calendar/2304159/school-comm
 ittee-meeting-remote-meeting-online
DTSTART:20200826T230000Z
DTEND:20200827T000000Z
END:VEVENT
END:VCALENDAR
