BEGIN:VCALENDAR
VERSION:2.0
PRODID:SchoolNow
CALSCALE:GREGORIAN
BEGIN:VEVENT
UID:d5ede148-de47-11ea-be93-12f4e5d6eaa3
DTSTAMP:20200814T160430Z
SUMMARY:School Committee Budget Sub Committee Meeting - REMOTE MEETING ONLI
 NE
URL;VALUE=URI:https://www.norwood.k12.ma.us/sc/calendar/2306325/school-comm
 ittee-budget-sub-committee-meeting-remote-meeting-online
DTSTART:20200825T163000Z
DTEND:20200825T173000Z
END:VEVENT
END:VCALENDAR
