BEGIN:VCALENDAR
VERSION:2.0
PRODID:SchoolNow
CALSCALE:GREGORIAN
BEGIN:VEVENT
UID:ea1db94a-de47-11ea-9db9-12f4e5d6eaa3
DTSTAMP:20200814T160504Z
SUMMARY:School Committee Executive Session - REMOTE MEETING ONLINE
URL;VALUE=URI:https://www.norwood.k12.ma.us/sc/calendar/2306327/school-comm
 ittee-executive-session-remote-meeting-online
DTSTART:20200826T220000Z
DTEND:20200826T230000Z
END:VEVENT
END:VCALENDAR
