BEGIN:VCALENDAR
VERSION:2.0
PRODID:SchoolNow
CALSCALE:GREGORIAN
BEGIN:VEVENT
UID:03f1ac0a-e866-11ea-8df2-0a6ef661cd0b
DTSTAMP:20200827T130543Z
SUMMARY:School Committee Meeting - Executive Session - REMOTE MEETING ONLIN
 E
URL;VALUE=URI:https://www.norwood.k12.ma.us/sc/calendar/2320766/school-comm
 ittee-meeting-executive-session-remote-meeting-online
DTSTART:20200902T220000Z
DTEND:20200902T230000Z
END:VEVENT
END:VCALENDAR
