BEGIN:VCALENDAR
VERSION:2.0
PRODID:SchoolNow
CALSCALE:GREGORIAN
BEGIN:VEVENT
UID:16ee98f4-e866-11ea-b9da-0a6ef661cd0b
DTSTAMP:20200827T130615Z
SUMMARY:School Committee Meeting - REMOTE MEETING ONLINE
URL;VALUE=URI:https://www.norwood.k12.ma.us/sc/calendar/2320768/school-comm
 ittee-meeting-remote-meeting-online
DTSTART:20200902T230000Z
DTEND:20200903T000000Z
END:VEVENT
END:VCALENDAR
