BEGIN:VCALENDAR
VERSION:2.0
PRODID:SchoolNow
CALSCALE:GREGORIAN
BEGIN:VEVENT
UID:a1518f80-e8a5-11ea-b248-125dda315c69
DTSTAMP:20200827T204106Z
SUMMARY:School Committee Budget Sub Committee Meeting - REMOTE MEETING ONLI
 NE
URL;VALUE=URI:https://www.norwood.k12.ma.us/sc/calendar/2321282/school-comm
 ittee-budget-sub-committee-meeting-remote-meeting-online
DTSTART:20200831T203000Z
DTEND:20200831T213000Z
END:VEVENT
END:VCALENDAR
