BEGIN:VCALENDAR
VERSION:2.0
PRODID:SchoolNow
CALSCALE:GREGORIAN
BEGIN:VEVENT
UID:8efb17d0-f218-11ea-98f8-1281b1d6b58d
DTSTAMP:20200908T211628Z
SUMMARY:School Committee Budget Sub Committee Meeting - REMOTE MEETING ONLI
 NE
URL;VALUE=URI:https://www.norwood.k12.ma.us/sc/calendar/2342320/school-comm
 ittee-budget-sub-committee-meeting-remote-meeting-online-clone
DTSTART:20200909T150000Z
DTEND:20200909T160000Z
END:VEVENT
END:VCALENDAR
