BEGIN:VCALENDAR
VERSION:2.0
PRODID:SchoolNow
CALSCALE:GREGORIAN
BEGIN:VEVENT
UID:af1acc64-fc08-11ea-9a69-0adfbdf26d87
DTSTAMP:20200921T124801Z
SUMMARY:School Committee Meeting - Executive Session - REMOTE MEETING ONLIN
 E
URL;VALUE=URI:https://www.norwood.k12.ma.us/sc/calendar/2372263/school-comm
 ittee-meeting-executive-session-remote-meeting-online
DTSTART:20200923T220000Z
DTEND:20200923T230000Z
END:VEVENT
END:VCALENDAR
