BEGIN:VCALENDAR
VERSION:2.0
PRODID:SchoolNow
CALSCALE:GREGORIAN
BEGIN:VEVENT
UID:5a6a5fb2-070d-11eb-8309-12411b2794d3
DTSTAMP:20201005T131909Z
SUMMARY:School Committee - Executive Session - REMOTE MEETING ONLINE
URL;VALUE=URI:https://www.norwood.k12.ma.us/sc/calendar/2417135/school-comm
 ittee-executive-session-remote-meeting-online
DTSTART:20201007T223000Z
DTEND:20201007T230000Z
END:VEVENT
END:VCALENDAR
