BEGIN:VCALENDAR
VERSION:2.0
PRODID:SchoolNow
CALSCALE:GREGORIAN
BEGIN:VEVENT
UID:71722924-070d-11eb-a335-12411b2794d3
DTSTAMP:20201005T131948Z
SUMMARY:School Committee Meeting - Policy Sub Committee Meeting - REMOTE ME
 ETING ONLINE
URL;VALUE=URI:https://www.norwood.k12.ma.us/sc/calendar/2417137/school-comm
 ittee-meeting-policy-sub-committee-meeting-remote-meeting-online
DTSTART:20201008T150000Z
DTEND:20201008T160000Z
END:VEVENT
END:VCALENDAR
