BEGIN:VCALENDAR
VERSION:2.0
PRODID:SchoolNow
CALSCALE:GREGORIAN
BEGIN:VEVENT
UID:2dfde7fc-0963-11eb-99fd-12923cfa83cd
DTSTAMP:20201008T123834Z
SUMMARY:School Committee Budget Sub Committee Meeting - REMOTE MEETING ONLI
 NE
URL;VALUE=URI:https://www.norwood.k12.ma.us/sc/calendar/2429669/school-comm
 ittee-budget-sub-committee-meeting-remote-meeting-online
DTSTART:20201014T171500Z
DTEND:20201014T181500Z
END:VEVENT
END:VCALENDAR
