BEGIN:VCALENDAR
VERSION:2.0
PRODID:SchoolNow
CALSCALE:GREGORIAN
BEGIN:VEVENT
UID:26992512-0f0d-11eb-98ba-123471c9babd
DTSTAMP:20201015T173752Z
SUMMARY:School Committee Policy Sub Committee Meeting - REMOTE MEETING ONLI
 NE
URL;VALUE=URI:https://www.norwood.k12.ma.us/sc/calendar/2465255/school-comm
 ittee-policy-sub-committee-meeting-remote-meeting-online
DTSTART:20201029T143000Z
DTEND:20201029T153000Z
END:VEVENT
END:VCALENDAR
