BEGIN:VCALENDAR
VERSION:2.0
PRODID:SchoolNow
CALSCALE:GREGORIAN
BEGIN:VEVENT
UID:3cb63eca-0f0d-11eb-a6ef-123471c9babd
DTSTAMP:20201015T173829Z
SUMMARY:School Committee Budget Sub Committee Meeting - REMOTE MEETING ONLI
 NE
URL;VALUE=URI:https://www.norwood.k12.ma.us/sc/calendar/2465257/school-comm
 ittee-budget-sub-committee-meeting-remote-meeting-online
DTSTART:20201020T150000Z
DTEND:20201020T160000Z
END:VEVENT
END:VCALENDAR
