BEGIN:VCALENDAR
VERSION:2.0
PRODID:SchoolNow
CALSCALE:GREGORIAN
BEGIN:VEVENT
UID:517bdbee-0f0d-11eb-9186-123471c9babd
DTSTAMP:20201015T173904Z
SUMMARY:School Committee Executive Session - REMOTE MEETING ONLINE
URL;VALUE=URI:https://www.norwood.k12.ma.us/sc/calendar/2465260/school-comm
 ittee-executive-session-remote-meeting-online
DTSTART:20201021T223000Z
DTEND:20201021T230000Z
END:VEVENT
END:VCALENDAR
