BEGIN:VCALENDAR
VERSION:2.0
PRODID:SchoolNow
CALSCALE:GREGORIAN
BEGIN:VEVENT
UID:a6aacbfa-1464-11eb-8d25-12f91ec88dc3
DTSTAMP:20201022T124649Z
SUMMARY:School Committee Budget Sub Committee Meeting - REMOTE MEETING ONLI
 NE
URL;VALUE=URI:https://www.norwood.k12.ma.us/sc/calendar/2477569/school-comm
 ittee-budget-sub-committee-meeting-remote-meeting-online
DTSTART:20201027T150000Z
DTEND:20201027T160000Z
END:VEVENT
END:VCALENDAR
