BEGIN:VCALENDAR
VERSION:2.0
PRODID:SchoolNow
CALSCALE:GREGORIAN
BEGIN:VEVENT
UID:6b65aa4a-1858-11eb-9cf8-12d0be7652c5
DTSTAMP:20201027T133002Z
SUMMARY:School Committee Meeting - REMOTE MEETING ONLINE
URL;VALUE=URI:https://www.norwood.k12.ma.us/sc/calendar/2481803/school-comm
 ittee-meeting-remote-meeting-online
DTSTART:20201106T003000Z
DTEND:20201106T013000Z
END:VEVENT
END:VCALENDAR
