BEGIN:VCALENDAR
VERSION:2.0
PRODID:SchoolNow
CALSCALE:GREGORIAN
BEGIN:VEVENT
UID:7e3c04a2-1858-11eb-82c4-12d0be7652c5
DTSTAMP:20201030T195322Z
SUMMARY:School Committee Meeting - Executive Session - REMOTE MEETING ONLIN
 E
URL;VALUE=URI:https://www.norwood.k12.ma.us/sc/calendar/2481804/school-comm
 ittee-meeting-executive-session-remote-meeting-online
DTSTART:20201105T233000Z
DTEND:20201106T003000Z
END:VEVENT
END:VCALENDAR
